BEGIN:VCALENDAR
VERSION:2.0
BEGIN:VEVENT
URL:https://www.dancezone.dk/events/viewevent/5-dancezone-dk-giver-fredagsol 
DTSTART:20161125T140000
DTEND:20161125T153000
SUMMARY:dancezone.dk giver fredagsøl
DESCRIPTION:<p><strong>Der er i sandhed noget at fejre! </strong></p><p>Kom til fredagsøl hos dancezone.dk</p><p>Efter 4 helt crazy år for vores lille familie, kan jeg slet ikke beskrive, hvor taknemmelig jeg er for at have fået muligheden for at restarte mit firma i et 6 ugers iværksætterforløb hos House of Innovation, mens jeg går ledig! De 6 uger er snart slut og det vil jeg gerne markere ved at invitere dig og din familie til at komme og fejre følgende med mig:</p><p>1. Min danseportal relanceres 25. november 2016</p><p>2. Jeg blev raskmeldt 3. juni 2016<br /></p><p>3. Og ja... så blev jeg 40 år i januar - og det er jeg klar til at fejre nu, inden jeg fylder 41:-)</p><p>4. Det er længe siden, jeg har set mange af jer.... og jeg savner jer!!</p><p>Jeg vil være vært ved en fredagsøl og lidt guf for jer, der kan være i Kolding i tidsrummet 14.00-15.30. <br /></p><p>Omkring kl. 15.00 vil jeg gerne takke huset, min mentor og de mange lejere i kontorfællesskabet for en super god tid.</p><p><strong>Sted: </strong><br /></p><p>House of Innovation, Jernbanegade 27, 6000  Kolding. Gratis parkering på Slotsø-siden af Kolding Bibliotek eller i P-huset ved Middelfart Sparekassen.<br /></p><p><strong>Gaveønsker:</strong></p><p>Ingen! Gaven er at du vil komme og hygge sammen med mig og fejre livets mangfoldighed.</p>
LOCATION:House of Innovation, Jernbanegade 27, 6000  Kolding
END:VEVENT
END:VCALENDAR