BEGIN:VCALENDAR
VERSION:2.0
BEGIN:VEVENT
URL:https://www.dancezone.dk/events/viewevent/24-tak-for-dansen-award 
DTSTART:20230429T130000
DTEND:20230429T170000
SUMMARY:Tak for dansen-award
DESCRIPTION:<p>For at markere Dansens Dag på en anderledes måde, har dancezone.dk valgt at lancere en ny pris, nemlig 'Tak for dansen-prisen'.</p><p>Nærmere info omkring prisen og nominering følger her i begivenheden.</p>Award-uddelingen finder sted på Dansens Dag den 29. april om eftermiddagen - tidspunktet er ikke endeligt fastlagt
LOCATION:Link følger
END:VEVENT
END:VCALENDAR