BEGIN:VCALENDAR
VERSION:2.0
BEGIN:VEVENT
URL:https://www.dancezone.dk/events/viewevent/13-danser-bingo-til-fordel-for-nyt-julemaerkehjem-i-kolding 
DTSTART:20180602T130000
DTEND:20180602T160000
SUMMARY:Danser Bingo til fordel for nyt julemærkehjem i Kolding
DESCRIPTION:<p>Inviter venner og familie med til en helt særlig eftermiddag, hvor vi skal spille Danser Bingo til fordel for indsamling til julemærkehjem i Kolding (indtjeningen for spillerpladerne går ubeskåret til indsamlingen)</p><p>Vi trækker numrene på helt særlige måder i en god kombi af dyst og leg, så vi kommer til at se alt fra gummistøvlekast og bobby car ræs til lålle- og hulahop-konkurrencer.</p><p>Det bliver helt sikkert festligt.</p><p>Vores dansere fra sæson 17/18 krydrer dagen med at vise nogle af de danse, de har lært i løbet af sæsonen.</p><p>Entré kr. 50 pr. person inkl. kaffe og 1 stk. kage.</p><p>Overføres til MobilePay nr. 24017 med navn/e i tekstfelt senest den 25. maj.</p><p>Arrangementet er gratis for dancezone-dansere, der har købt årets dancezone-t-shirt.</p><p>Bingoplader købes på dagen for 20 kr. pr. styk. eller 50 kr. for 3 stk.</p><p>Danser Bingo afholdes i Guldloungen på 2. sal i Sydbank Arena, Ambolten 2-6, 6000 Kolding</p><p>Dørene åbnes først kl. 13.00</p><p>Spørgsmål kan rettes til Lisa Bærentsen, lisa@dancezone.dk eller 31 16 62 69</p><p>Vi søger sponsorpræmier til arrangementet, så kontakt mig endelig hvis du kender nogen, der vil støtte et godt formål.</p><p>NB:</p><p>For dem der har lyst - og hvis vejret tillader det - mødes vi i Legeparken efterfølgende til grillhygge. Medbring selv mad, drikkevarer og evt. engangsgrill (Der kan være rift om parkens grillhuse)</p><br /><br />
LOCATION:Sydbank Arena, Guldloungen, Ambolten 2-6, 6000 Kolding
END:VEVENT
END:VCALENDAR