BEGIN:VCALENDAR
VERSION:2.0
BEGIN:VEVENT
URL:https://www.dancezone.dk/events/viewevent/12-family-dance-pa-dansens-dag 
DTSTART:20180429T130000
DTEND:20180429T140000
SUMMARY:Family Dance på Dansens Dag
DESCRIPTION:<p>Det nye sort inden for dans er familiedans.</p><p>Derfor byder dancezone.dk i anledning af Dansens Dag 2018 velkommen til en eftermiddag hvor dans, bevægelse og leg for alle aldre er i højsædet. Hvor vi får lavet nogle seje koreografier og hvor de voksne bliver børnenes helte - for børn ELSKER, når de voksne gider at lege!!!</p><p>Vi skal selvfølgelig danse til de nyeste MGP-sange og andre seje børne-hits.</p><p>Billetpris kr. 25,- pr. person overføres til dancezone.dk på MobilePay nr. 24017 (angiv navn i tekstfeltet) senest den 27. april.<br /></p><p>Program:</p><p>Kl. 13.00 Family Dance for børn over 4 år og deres forældre/bedsteforældre</p><p>Kl. 14.00 Family Dance for børn over 8 år og deres forældre/bedsteforældre</p><p>Sted:</p><p>Vi danser i hal 2 i Sydbank Arene, Ambolten 2-6, 6000 Kolding</p><p>Spørgsmål:</p>kan rettes til Lisa Bærentsen på lisa@dancezone.dk eller mobil 31 16 62 69
LOCATION:Sydbank Arena, hal 2, Ambolten 2-6, 6000 Kolding
END:VEVENT
END:VCALENDAR