BEGIN:VCALENDAR
VERSION:2.0
BEGIN:VEVENT
URL:https://www.dancezone.dk/events/viewevent/11-dansesjov-ved-bamsehuset-i-legeparken 
DTSTART:20180427T100000
DTEND:20180427T120000
SUMMARY:Dansesjov ved Bamsehuset i Legeparken
DESCRIPTION:<p>Bamsehuset i Legeparken og dancezone.dk inviterer igen i år børn og barnlige sjæle til festlig udendørs dans i Legeparken. Alle kan være med. Ses vi?</p><p>Program:</p><p>kl. 10.00 Dansesjov for børn 3-6 år og gerne deres familier</p><p>kl. 11.00 Dansesjov for børn 7-10 år og gerne deres familier</p><p>Eventet kræver ingen tilmelding - tag hele familien med til en festlig formiddag (forhåbentligt med godt vejr:-)</p><p>Fri entré<br /></p>
LOCATION:Bamsehuset Legeparken, Grønningen 2, 6000 Kolding
END:VEVENT
END:VCALENDAR