BEGIN:VCALENDAR
VERSION:2.0
BEGIN:VEVENT
URL:https://www.dancezone.dk/events/viewevent/10-abent-hus-pa-danselinje-i-nr-bjaert-strandhuse-if 
DTSTART:20180425T163000
DTEND:20180425T194500
SUMMARY:Åbent hus på danselinje i Nr. Bjært-Strandhuse IF
DESCRIPTION:Som noget nyt åbner Nr. Bjært Strandhuse IF en danselinje fra sæson 18/19 i samarbejde med Lisa Bærentsen fra dancezone.dk. Hun elsker at dele danseglæde ud og inviterer alle indenfor til en gratis smagsprøve på de forskellige hold i uge 17.<br /><p>Ingen tilmelding, bare mød op:-)</p><p>Program for Åbent Hus onsdag den 25. april:</p><p>Kl. 16.30 DanceZone Børn 5-7 år</p><p>Kl. 17.15 DanceZone Junior 7-10 år</p><p>Kl. 18.10 DanceZone Tween 10-12 år</p><p>Kl. 19.00 DanceZone Voksne 30+</p><p>DanceZone-holdene er en god blanding af Funk/HipHop/street, showdance, ballroom mv.</p><p>Vi glæder os til at danse med jer.</p><p>Vi danser denne dag i Lyshøjskolens gymnastiksal, Lyshøj Allé 1, 6000 Kolding</p><p>Spørgsmål kan rettes til Lisa Bærentsen på lisa@dancezone.dk eller mobil 31 16 62 69</p>
LOCATION:Lyshøjskolen, Lyshøj Allé 1, 6000 Kolding
END:VEVENT
END:VCALENDAR